BEGIN:VCALENDAR
VERSION:2.0
PRODID:-//pretix//pretix.eu//
BEGIN:VTIMEZONE
TZID:Europe/Berlin
BEGIN:STANDARD
DTSTART:20001029T040000
RRULE:FREQ=YEARLY;BYDAY=-1SU;BYMONTH=10
TZNAME:CET
TZOFFSETFROM:+0200
TZOFFSETTO:+0100
END:STANDARD
BEGIN:DAYLIGHT
DTSTART:20000326T030000
RRULE:FREQ=YEARLY;BYDAY=-1SU;BYMONTH=3
TZNAME:CEST
TZOFFSETFROM:+0100
TZOFFSETTO:+0200
END:DAYLIGHT
END:VTIMEZONE
BEGIN:VEVENT
UID:pretix-mvdarscheid-heavymetal-0@pretix.eu
DTSTART;TZID=Europe/Berlin:20170909T200000
DTEND;TZID=Europe/Berlin:20170909T235959
DESCRIPTION:Tickets: https://pretix.eu/mvdarscheid/heavymetal/\nEinlass: 09
 .09.2017 19:00\nVeranstalter: Musikverein Darscheid 1965 e.V.
DTSTAMP:20260424T154929Z
LOCATION:"LeeForestHall" (Lehwaldhalle)\, 54552 Darscheid
SUMMARY:heavymetal - das Rock & Popkonzert des MV Darscheid
END:VEVENT
END:VCALENDAR
