BEGIN:VCALENDAR
VERSION:2.0
PRODID:-//pretix//pretix.eu//
BEGIN:VTIMEZONE
TZID:Europe/Berlin
BEGIN:STANDARD
DTSTART:20001029T040000
RRULE:FREQ=YEARLY;BYDAY=-1SU;BYMONTH=10
TZNAME:CET
TZOFFSETFROM:+0200
TZOFFSETTO:+0100
END:STANDARD
BEGIN:DAYLIGHT
DTSTART:20000326T030000
RRULE:FREQ=YEARLY;BYDAY=-1SU;BYMONTH=3
TZNAME:CEST
TZOFFSETFROM:+0100
TZOFFSETTO:+0200
END:DAYLIGHT
END:VTIMEZONE
BEGIN:VEVENT
UID:pretix-mvgm-magdeboot2023-0@pretix.eu
DTSTART;TZID=Europe/Berlin:20230310T100000
DTEND;TZID=Europe/Berlin:20230312T180000
DESCRIPTION:Tickets: https://pretix.eu/mvgm/magdeboot2023/\nVeranstalter: M
 esse- und Veranstaltungsgesellschaft Magdeburg GmbH
DTSTAMP:20260422T093734Z
LOCATION:Messe Magdeburg\, Tessenowstraße 9a\, 39114 Magdeburg
SUMMARY:MAGDEBOOT 2023
END:VEVENT
END:VCALENDAR
