BEGIN:VCALENDAR
VERSION:2.0
PRODID:-//pretix//pretix.eu//
BEGIN:VTIMEZONE
TZID:Europe/Berlin
BEGIN:STANDARD
DTSTART:20001029T040000
RRULE:FREQ=YEARLY;BYDAY=-1SU;BYMONTH=10
TZNAME:CET
TZOFFSETFROM:+0200
TZOFFSETTO:+0100
END:STANDARD
BEGIN:DAYLIGHT
DTSTART:20000326T030000
RRULE:FREQ=YEARLY;BYDAY=-1SU;BYMONTH=3
TZNAME:CEST
TZOFFSETFROM:+0100
TZOFFSETTO:+0200
END:DAYLIGHT
END:VTIMEZONE
BEGIN:VEVENT
UID:pretix-mvlokal-diskurs-4911330@pretix.eu
DTSTART;TZID=Europe/Berlin:20261219T200000
DTEND;TZID=Europe/Berlin:20261219T230000
DESCRIPTION:Tickets: https://pretix.eu/mvlokal/diskurs/4911330/\nEinlass: 1
 9.12.2026 19:00\nVeranstalter: DasStudioZwei
DTSTAMP:20260423T062105Z
LOCATION:Glasewitzer Chaussee 18 18273 Güstrow
SUMMARY:DasStudioZwei – Studio Konzert mit IT´S ALL PINK - The Original 
 P!NK Tribute Show
END:VEVENT
END:VCALENDAR
