BEGIN:VCALENDAR
VERSION:2.0
PRODID:-//pretix//pretix.eu//
BEGIN:VTIMEZONE
TZID:Europe/Berlin
BEGIN:STANDARD
DTSTART:20001029T040000
RRULE:FREQ=YEARLY;BYDAY=-1SU;BYMONTH=10
TZNAME:CET
TZOFFSETFROM:+0200
TZOFFSETTO:+0100
END:STANDARD
BEGIN:DAYLIGHT
DTSTART:20000326T030000
RRULE:FREQ=YEARLY;BYDAY=-1SU;BYMONTH=3
TZNAME:CEST
TZOFFSETFROM:+0100
TZOFFSETTO:+0200
END:DAYLIGHT
END:VTIMEZONE
BEGIN:VEVENT
UID:pretix-mystic-walpurgisnight-2-0@pretix.eu
DTSTART;TZID=Europe/Berlin:20240430T150000
DTEND;TZID=Europe/Berlin:20240430T160000
DESCRIPTION:Tickets: https://pretix.eu/mystic/walpurgisnight-2/\nOrganizer:
  Mystic Creatures UG
DTSTAMP:20260421T225730Z
SUMMARY:Walpurgis Night @ Festsaal Kreuzberg w/ Marcus Meinhardt / Heimlich
  Knüller / Just Emma / Caleesi & Sarah Kreis / Carbon *live ...
END:VEVENT
END:VCALENDAR
