BEGIN:VCALENDAR
VERSION:2.0
PRODID:-//pretix//pretix.eu//
BEGIN:VTIMEZONE
TZID:Europe/London
BEGIN:STANDARD
DTSTART:20001029T030000
RRULE:FREQ=YEARLY;BYDAY=-1SU;BYMONTH=10
TZNAME:GMT
TZOFFSETFROM:+0100
TZOFFSETTO:+0000
END:STANDARD
BEGIN:DAYLIGHT
DTSTART:20000326T020000
RRULE:FREQ=YEARLY;BYDAY=-1SU;BYMONTH=3
TZNAME:BST
TZOFFSETFROM:+0000
TZOFFSETTO:+0100
END:DAYLIGHT
END:VTIMEZONE
BEGIN:VEVENT
UID:pretix-ncl-2026-06-23-NCL-0@pretix.eu
DTSTART;TZID=Europe/London:20260623T084500
DTEND;TZID=Europe/London:20260623T170000
DESCRIPTION:Tickets: https://pretix.eu/ncl/2026-06-23-NCL/\nAdmission: 2026
 -06-23 08:45\nOrganizer: Newcastle University RSE Team
DTSTAMP:20260421T054911Z
LOCATION:Newcastle University
SUMMARY:Software Carpentries: Version Control with Git
END:VEVENT
END:VCALENDAR
