BEGIN:VCALENDAR
VERSION:2.0
PRODID:-//pretix//pretix.eu//
BEGIN:VTIMEZONE
TZID:Europe/Berlin
BEGIN:STANDARD
DTSTART:20001029T040000
RRULE:FREQ=YEARLY;BYDAY=-1SU;BYMONTH=10
TZNAME:CET
TZOFFSETFROM:+0200
TZOFFSETTO:+0100
END:STANDARD
BEGIN:DAYLIGHT
DTSTART:20000326T030000
RRULE:FREQ=YEARLY;BYDAY=-1SU;BYMONTH=3
TZNAME:CEST
TZOFFSETFROM:+0100
TZOFFSETTO:+0200
END:DAYLIGHT
END:VTIMEZONE
BEGIN:VEVENT
UID:pretix-niam-niam2026-0@pretix.eu
DTSTART;TZID=Europe/Berlin:20260115T090000
DTEND;TZID=Europe/Berlin:20260115T163000
DESCRIPTION:Tickets: https://pretix.eu/niam/niam2026/\nVeranstalter: News-I
 nfographics-Analytics-Maps
DTSTAMP:20260425T204753Z
LOCATION:Berlin\, Wilhelm von Humboldt-Saal im Haus Unter den Linden der St
 aatsbibliothek zu Berlin
SUMMARY:News-Infographics-Analytics-Maps 2026
END:VEVENT
END:VCALENDAR
