BEGIN:VCALENDAR
VERSION:2.0
PRODID:-//pretix//pretix.eu//
BEGIN:VTIMEZONE
TZID:Europe/Berlin
BEGIN:STANDARD
DTSTART:20001029T040000
RRULE:FREQ=YEARLY;BYDAY=-1SU;BYMONTH=10
TZNAME:CET
TZOFFSETFROM:+0200
TZOFFSETTO:+0100
END:STANDARD
BEGIN:DAYLIGHT
DTSTART:20000326T030000
RRULE:FREQ=YEARLY;BYDAY=-1SU;BYMONTH=3
TZNAME:CEST
TZOFFSETFROM:+0100
TZOFFSETTO:+0200
END:DAYLIGHT
END:VTIMEZONE
BEGIN:VEVENT
UID:pretix-nim-KKS-2026-0@pretix.eu
DTSTART;TZID=Europe/Berlin:20261014T120000
DTEND;TZID=Europe/Berlin:20261014T173000
DESCRIPTION:Tickets: https://pretix.eu/nim/KKS-2026/\nEinlass: 14.10.2026 1
 1:00\nVeranstalter: Nürnberg Institut für Marktentscheidungen e.V.
DTSTAMP:20260421T131511Z
LOCATION:AXICA\, Pariser Platz 3\, 10117 Berlin
SUMMARY:Konsumklima Summit powered by NIM
END:VEVENT
END:VCALENDAR
