BEGIN:VCALENDAR
VERSION:2.0
PRODID:-//pretix//pretix.eu//
BEGIN:VTIMEZONE
TZID:Europe/Berlin
BEGIN:STANDARD
DTSTART:20001029T040000
RRULE:FREQ=YEARLY;BYDAY=-1SU;BYMONTH=10
TZNAME:CET
TZOFFSETFROM:+0200
TZOFFSETTO:+0100
END:STANDARD
BEGIN:DAYLIGHT
DTSTART:20000326T030000
RRULE:FREQ=YEARLY;BYDAY=-1SU;BYMONTH=3
TZNAME:CEST
TZOFFSETFROM:+0100
TZOFFSETTO:+0200
END:DAYLIGHT
END:VTIMEZONE
BEGIN:VEVENT
UID:pretix-noi-digital-sfscon25-4707520@pretix.eu
DTSTART;TZID=Europe/Berlin:20251108T140000
DTEND;TZID=Europe/Berlin:20251108T160000
DESCRIPTION:Tickets: https://pretix.eu/noi-digital/sfscon25/4707520/\nOrgan
 izer: NOI Techpark
DTSTAMP:20260420T213947Z
LOCATION:Crane Hall - Workshop Area\, NOI Techpark\, A. Volta-Str.\, 13/A\,
  39100 Bolzano | Bozen\, Italy
SUMMARY:[SIDE EVENT] Mapping NOI Techpark in OpenStreetMap
END:VEVENT
END:VCALENDAR
