BEGIN:VCALENDAR
VERSION:2.0
PRODID:-//pretix//pretix.eu//
BEGIN:VTIMEZONE
TZID:Europe/Berlin
BEGIN:STANDARD
DTSTART:20001029T040000
RRULE:FREQ=YEARLY;BYDAY=-1SU;BYMONTH=10
TZNAME:CET
TZOFFSETFROM:+0200
TZOFFSETTO:+0100
END:STANDARD
BEGIN:DAYLIGHT
DTSTART:20000326T030000
RRULE:FREQ=YEARLY;BYDAY=-1SU;BYMONTH=3
TZNAME:CEST
TZOFFSETFROM:+0100
TZOFFSETTO:+0200
END:DAYLIGHT
END:VTIMEZONE
BEGIN:VEVENT
UID:pretix-nothuman-fucktrier-0@pretix.eu
DTSTART;TZID=Europe/Berlin:20250606T220000
DTEND;TZID=Europe/Berlin:20250607T080059
DESCRIPTION:Tickets: https://pretix.eu/nothuman/fucktrier/\nOrganizer: Not 
 Human
DTSTAMP:20260421T022824Z
LOCATION:unknown spot\, coordinates: 49.743072\, 6.589764
SUMMARY:별이 빛나는 밤 trier
END:VEVENT
END:VCALENDAR
