BEGIN:VCALENDAR
VERSION:2.0
PRODID:-//pretix//pretix.eu//
BEGIN:VEVENT
UID:pretix-nothuman-nh001-0@pretix.eu
DTSTART;VALUE=DATE:20251129
DTEND;VALUE=DATE:20251130
DESCRIPTION:Tickets: https://pretix.eu/nothuman/nh001/\nOrganizer: Not Huma
 n
DTSTAMP:20260419T122836Z
SUMMARY:Rrade - Rhythmic Resonance
END:VEVENT
END:VCALENDAR
