BEGIN:VCALENDAR
VERSION:2.0
PRODID:-//pretix//pretix.eu//
BEGIN:VTIMEZONE
TZID:Europe/Zurich
BEGIN:STANDARD
DTSTART:20001029T040000
RRULE:FREQ=YEARLY;BYDAY=-1SU;BYMONTH=10
TZNAME:CET
TZOFFSETFROM:+0200
TZOFFSETTO:+0100
END:STANDARD
BEGIN:DAYLIGHT
DTSTART:20000326T030000
RRULE:FREQ=YEARLY;BYDAY=-1SU;BYMONTH=3
TZNAME:CEST
TZOFFSETFROM:+0100
TZOFFSETTO:+0200
END:DAYLIGHT
END:VTIMEZONE
BEGIN:VEVENT
UID:pretix-oga-oga2026-0@pretix.eu
DTSTART;TZID=Europe/Zurich:20260612T180000
DTEND;TZID=Europe/Zurich:20260620T213000
DESCRIPTION:Tickets: https://pretix.eu/oga/oga2026/\nVeranstalter: Gen. Obe
 remmentalische Gewerbe- und Landwirtschaftsausstellung
DTSTAMP:20260424T013319Z
LOCATION:Güterstrasse 14\, 3550 Langnau im Emmental\, Schweiz
SUMMARY:OGA 2026
END:VEVENT
END:VCALENDAR
