BEGIN:VCALENDAR
VERSION:2.0
PRODID:-//pretix//pretix.eu//
BEGIN:VTIMEZONE
TZID:Europe/Berlin
BEGIN:STANDARD
DTSTART:20001029T040000
RRULE:FREQ=YEARLY;BYDAY=-1SU;BYMONTH=10
TZNAME:CET
TZOFFSETFROM:+0200
TZOFFSETTO:+0100
END:STANDARD
BEGIN:DAYLIGHT
DTSTART:20000326T030000
RRULE:FREQ=YEARLY;BYDAY=-1SU;BYMONTH=3
TZNAME:CEST
TZOFFSETFROM:+0100
TZOFFSETTO:+0200
END:DAYLIGHT
END:VTIMEZONE
BEGIN:VEVENT
UID:pretix-ooen-fitiminternet-2-0@pretix.eu
DTSTART;TZID=Europe/Berlin:20260520T083000
DTEND;TZID=Europe/Berlin:20260520T093000
DESCRIPTION:Tickets: https://pretix.eu/ooen/fitiminternet-2/\nEinlass: 20.0
 5.2026 08:00\nVeranstalter: OÖNachrichten
DTSTAMP:20260425T122546Z
LOCATION:OÖNachrichten FORUM\, Promenade 23\, 4020 Linz
SUMMARY:Fit im Internet
END:VEVENT
END:VCALENDAR
