BEGIN:VCALENDAR
VERSION:2.0
PRODID:-//pretix//pretix.eu//
BEGIN:VTIMEZONE
TZID:Europe/Berlin
BEGIN:STANDARD
DTSTART:20001029T040000
RRULE:FREQ=YEARLY;BYDAY=-1SU;BYMONTH=10
TZNAME:CET
TZOFFSETFROM:+0200
TZOFFSETTO:+0100
END:STANDARD
BEGIN:DAYLIGHT
DTSTART:20000326T030000
RRULE:FREQ=YEARLY;BYDAY=-1SU;BYMONTH=3
TZNAME:CEST
TZOFFSETFROM:+0100
TZOFFSETTO:+0200
END:DAYLIGHT
END:VTIMEZONE
BEGIN:VEVENT
UID:pretix-ooen-fitiminternet-3-0@pretix.eu
DTSTART;TZID=Europe/Berlin:20260226T130000
DTEND;TZID=Europe/Berlin:20260226T140000
DESCRIPTION:Tickets: https://pretix.eu/ooen/fitiminternet-3/\nEinlass: 26.0
 2.2026 12:30\nVeranstalter: OÖNachrichten
DTSTAMP:20260425T190435Z
LOCATION:Raiffeisenbank Region Ried\, Freidrich-Thurner-Straße 14\, 4910 R
 ied im Innkreis
SUMMARY:Fit im Internet - Ried
END:VEVENT
END:VCALENDAR
