BEGIN:VCALENDAR
VERSION:2.0
PRODID:-//pretix//pretix.eu//
BEGIN:VEVENT
UID:pretix-opening-gewaechshaus-2-0@pretix.eu
DTSTART;VALUE=DATE:20260412
DTEND;VALUE=DATE:20260413
DESCRIPTION:Tickets: https://pretix.eu/opening/gewaechshaus-2/\nVeranstalte
 r: Schneebeergerhof Agrarvision
DTSTAMP:20260419T122838Z
LOCATION:Schneebergerhof 14\, 67813 Gerbach
SUMMARY:Gewächshausführung Fortsetzung
END:VEVENT
END:VCALENDAR
