BEGIN:VCALENDAR
VERSION:2.0
PRODID:-//pretix//pretix.eu//
BEGIN:VTIMEZONE
TZID:Europe/Berlin
BEGIN:STANDARD
DTSTART:20001029T040000
RRULE:FREQ=YEARLY;BYDAY=-1SU;BYMONTH=10
TZNAME:CET
TZOFFSETFROM:+0200
TZOFFSETTO:+0100
END:STANDARD
BEGIN:DAYLIGHT
DTSTART:20000326T030000
RRULE:FREQ=YEARLY;BYDAY=-1SU;BYMONTH=3
TZNAME:CEST
TZOFFSETFROM:+0100
TZOFFSETTO:+0200
END:DAYLIGHT
END:VTIMEZONE
BEGIN:VEVENT
UID:pretix-opk-leipzig-opt2027-0@pretix.eu
DTSTART;TZID=Europe/Berlin:20270305T130000
DTEND;TZID=Europe/Berlin:20270306T170000
DESCRIPTION:Tickets: https://pretix.eu/opk-leipzig/opt2027/\nVeranstalter: 
 Ostdeutsche Psychotherapeuten Kammer
DTSTAMP:20260423T094046Z
LOCATION:Pentahotel Leipzig\, Großer Brockhaus 3\, 04103 Leipzig\, Germany
SUMMARY:Ostdeutscher Psychotherapeutentag 2027
END:VEVENT
END:VCALENDAR
