BEGIN:VCALENDAR
VERSION:2.0
PRODID:-//pretix//pretix.eu//
BEGIN:VTIMEZONE
TZID:Europe/Berlin
BEGIN:STANDARD
DTSTART:20001029T040000
RRULE:FREQ=YEARLY;BYDAY=-1SU;BYMONTH=10
TZNAME:CET
TZOFFSETFROM:+0200
TZOFFSETTO:+0100
END:STANDARD
BEGIN:DAYLIGHT
DTSTART:20000326T030000
RRULE:FREQ=YEARLY;BYDAY=-1SU;BYMONTH=3
TZNAME:CEST
TZOFFSETFROM:+0100
TZOFFSETTO:+0200
END:DAYLIGHT
END:VTIMEZONE
BEGIN:VEVENT
UID:pretix-orca-oer-ki-info-0@pretix.eu
DTSTART;TZID=Europe/Berlin:20231212T100000
DTEND;TZID=Europe/Berlin:20231212T110000
DESCRIPTION:Tickets: https://pretix.eu/orca/oer-ki-info/\nVeranstalter: ORC
 A.nrw und FH Dortmund
DTSTAMP:20260420T214012Z
LOCATION:online via Zoom
SUMMARY:Informationsveranstaltung: "Generative künstliche Intelligenz und 
 offene Lernmaterialien: Segen oder großes Risiko?"
END:VEVENT
END:VCALENDAR
