BEGIN:VCALENDAR
VERSION:2.0
PRODID:-//pretix//pretix.eu//
BEGIN:VEVENT
UID:pretix-osmf-sotm2021-0@pretix.eu
DTSTART:20210709T080000Z
DTEND:20210711T235959Z
DESCRIPTION:Tickets: https://pretix.eu/osmf/sotm2021/\nOrganizer: OpenStree
 tMap Foundation
DTSTAMP:20260419T224708Z
SUMMARY:State of the Map 2021
END:VEVENT
END:VCALENDAR
