BEGIN:VCALENDAR
VERSION:2.0
PRODID:-//pretix//pretix.eu//
BEGIN:VEVENT
UID:pretix-osmf-sotm2025-0@pretix.eu
DTSTART;VALUE=DATE:20251003
DTEND;VALUE=DATE:20251006
DESCRIPTION:Tickets: https://pretix.eu/osmf/sotm2025/\nOrganizer: OpenStree
 tMap Foundation
DTSTAMP:20260421T151151Z
LOCATION:Manila
SUMMARY:State of the Map 2025
END:VEVENT
END:VCALENDAR
