BEGIN:VCALENDAR
VERSION:2.0
PRODID:-//pretix//pretix.eu//
BEGIN:VTIMEZONE
TZID:Europe/London
BEGIN:STANDARD
DTSTART:20001029T030000
RRULE:FREQ=YEARLY;BYDAY=-1SU;BYMONTH=10
TZNAME:GMT
TZOFFSETFROM:+0100
TZOFFSETTO:+0000
END:STANDARD
BEGIN:DAYLIGHT
DTSTART:20000326T020000
RRULE:FREQ=YEARLY;BYDAY=-1SU;BYMONTH=3
TZNAME:BST
TZOFFSETFROM:+0000
TZOFFSETTO:+0100
END:DAYLIGHT
END:VTIMEZONE
BEGIN:VEVENT
UID:pretix-ostfestival-ost2025-4705942@pretix.eu
DTSTART;TZID=Europe/London:20251023T150000
DTEND;TZID=Europe/London:20251023T160000
DESCRIPTION:Tickets: https://pretix.eu/ostfestival/ost2025/4705942/\nOrgani
 zer: Orkney Storytelling Festival
DTSTAMP:20260423T025838Z
LOCATION:St Olaf's Cemetery\, Kirkwall\, Orkney\, UK
SUMMARY:Absent Friends
END:VEVENT
END:VCALENDAR
