BEGIN:VCALENDAR
VERSION:2.0
PRODID:-//pretix//pretix.eu//
BEGIN:VTIMEZONE
TZID:Europe/Lisbon
BEGIN:STANDARD
DTSTART:20001029T030000
RRULE:FREQ=YEARLY;BYDAY=-1SU;BYMONTH=10
TZNAME:WET
TZOFFSETFROM:+0100
TZOFFSETTO:+0000
END:STANDARD
BEGIN:DAYLIGHT
DTSTART:20000326T020000
RRULE:FREQ=YEARLY;BYDAY=-1SU;BYMONTH=3
TZNAME:WEST
TZOFFSETFROM:+0000
TZOFFSETTO:+0100
END:DAYLIGHT
END:VTIMEZONE
BEGIN:VEVENT
UID:pretix-owasp-crs-community-summit-2024-0@pretix.eu
DTSTART;TZID=Europe/Lisbon:20240626T093000
DTEND;TZID=Europe/Lisbon:20240626T220000
DESCRIPTION:Tickets: https://pretix.eu/owasp-crs/community-summit-2024/\nOr
 ganizer: OWASP CRS
DTSTAMP:20260419T123403Z
LOCATION:Hyatt Regency\, Lisbon\, Portugal\, right next to the OWASP AppSec
  conference in the Lisbon Conference Center
SUMMARY:OWASP CRS Community Summit
END:VEVENT
END:VCALENDAR
