BEGIN:VCALENDAR
VERSION:2.0
PRODID:-//pretix//pretix.eu//
BEGIN:VTIMEZONE
TZID:Europe/Berlin
BEGIN:STANDARD
DTSTART:20001029T040000
RRULE:FREQ=YEARLY;BYDAY=-1SU;BYMONTH=10
TZNAME:CET
TZOFFSETFROM:+0200
TZOFFSETTO:+0100
END:STANDARD
BEGIN:DAYLIGHT
DTSTART:20000326T030000
RRULE:FREQ=YEARLY;BYDAY=-1SU;BYMONTH=3
TZNAME:CEST
TZOFFSETFROM:+0100
TZOFFSETTO:+0200
END:DAYLIGHT
END:VTIMEZONE
BEGIN:VEVENT
UID:pretix-parasites-and-robotics-bio.bots-2-0@pretix.eu
DTSTART;TZID=Europe/Berlin:20251201T180000
DTEND;TZID=Europe/Berlin:20251205T220000
DESCRIPTION:Tickets: https://pretix.eu/parasites-and-robotics/bio.bots-2/\n
 Organizer: Parasites & Robotics
DTSTAMP:20260420T134007Z
LOCATION:Leuschnerdamm 13\, Aufgang 3 / EG\, 10999 Berlin
SUMMARY:Parasites & Robotics:  Designing Bio-Inspired Machines
END:VEVENT
END:VCALENDAR
