BEGIN:VCALENDAR
VERSION:2.0
PRODID:-//pretix//pretix.eu//
BEGIN:VTIMEZONE
TZID:Europe/Berlin
BEGIN:STANDARD
DTSTART:20001029T040000
RRULE:FREQ=YEARLY;BYDAY=-1SU;BYMONTH=10
TZNAME:CET
TZOFFSETFROM:+0200
TZOFFSETTO:+0100
END:STANDARD
BEGIN:DAYLIGHT
DTSTART:20000326T030000
RRULE:FREQ=YEARLY;BYDAY=-1SU;BYMONTH=3
TZNAME:CEST
TZOFFSETFROM:+0100
TZOFFSETTO:+0200
END:DAYLIGHT
END:VTIMEZONE
BEGIN:VEVENT
UID:pretix-paritaetberlin-L-3-0@pretix.eu
DTSTART;TZID=Europe/Berlin:20240417T093000
DTEND;TZID=Europe/Berlin:20240417T120000
DESCRIPTION:Tickets: https://pretix.eu/paritaetberlin/L-3/\nEinlass: 17.04.
 2024 09:00\nVeranstalter: Paritätischer Wohlfahrtsverband Landesverband B
 erlin e.V.
DTSTAMP:20260425T195736Z
LOCATION:Schulze-Kiezspinne FAS e.V.\, Boysen-Straße 38\, 10365 Berlin
SUMMARY:Zivilgesellschaft wirkt Lichtenberg - Zuwendungspraxis
END:VEVENT
END:VCALENDAR
