BEGIN:VCALENDAR
VERSION:2.0
PRODID:-//pretix//pretix.eu//
BEGIN:VTIMEZONE
TZID:Europe/Berlin
BEGIN:STANDARD
DTSTART:20001029T040000
RRULE:FREQ=YEARLY;BYDAY=-1SU;BYMONTH=10
TZNAME:CET
TZOFFSETFROM:+0200
TZOFFSETTO:+0100
END:STANDARD
BEGIN:DAYLIGHT
DTSTART:20000326T030000
RRULE:FREQ=YEARLY;BYDAY=-1SU;BYMONTH=3
TZNAME:CEST
TZOFFSETFROM:+0100
TZOFFSETTO:+0200
END:DAYLIGHT
END:VTIMEZONE
BEGIN:VEVENT
UID:pretix-paritaetbildung-RaeumeSchaffen-0@pretix.eu
DTSTART;TZID=Europe/Berlin:20251204T100000
DTEND;TZID=Europe/Berlin:20251204T163000
DESCRIPTION:Tickets: https://pretix.eu/paritaetbildung/RaeumeSchaffen/\nVer
 anstalter: Paritätisches Bildungswerk Bundesverband
DTSTAMP:20260423T115324Z
LOCATION:Häselburg\, Burgstr. 12\, 07545 Gera
SUMMARY:"Politisch ist\, was Räume schafft!" Fachtagung zu Kultureller und
  Politische Bildung unter herausfordernden Bedingungen
END:VEVENT
END:VCALENDAR
