BEGIN:VCALENDAR
VERSION:2.0
PRODID:-//pretix//pretix.eu//
BEGIN:VEVENT
UID:pretix-pattensen-jugend2022-0@pretix.eu
DTSTART;VALUE=DATE:20230210
DTEND;VALUE=DATE:20230212
DESCRIPTION:Tickets: https://pretix.eu/pattensen/jugend2022/\nVeranstalter:
  Stadt Pattensen
DTSTAMP:20260421T193325Z
LOCATION:Ernst-Reuter-Schule\, Kooperative Gesamtschule\, Platz St. Aubin 1
 \, 30982 Pattensen
SUMMARY:Barcamp Jugend in Pattensen
END:VEVENT
END:VCALENDAR
