BEGIN:VCALENDAR
VERSION:2.0
PRODID:-//pretix//pretix.eu//
BEGIN:VTIMEZONE
TZID:Europe/Berlin
BEGIN:STANDARD
DTSTART:20001029T040000
RRULE:FREQ=YEARLY;BYDAY=-1SU;BYMONTH=10
TZNAME:CET
TZOFFSETFROM:+0200
TZOFFSETTO:+0100
END:STANDARD
BEGIN:DAYLIGHT
DTSTART:20000326T030000
RRULE:FREQ=YEARLY;BYDAY=-1SU;BYMONTH=3
TZNAME:CEST
TZOFFSETFROM:+0100
TZOFFSETTO:+0200
END:DAYLIGHT
END:VTIMEZONE
BEGIN:VEVENT
UID:pretix-pekra-country-wcf24-0@pretix.eu
DTSTART;TZID=Europe/Berlin:20240905T160000
DTEND;TZID=Europe/Berlin:20240908T180000
DESCRIPTION:Tickets: https://pretix.eu/pekra-country/wcf24/\nVeranstalter: 
 PEKRA-COUNTRY
DTSTAMP:20260424T155630Z
LOCATION:Bäderstraße/An der Jaderennbahn\, 26434 Hooksiel
SUMMARY:Watt´n Country Festival 24
END:VEVENT
END:VCALENDAR
