BEGIN:VCALENDAR
VERSION:2.0
PRODID:-//pretix//pretix.eu//
BEGIN:VTIMEZONE
TZID:Europe/Berlin
BEGIN:STANDARD
DTSTART:20001029T040000
RRULE:FREQ=YEARLY;BYDAY=-1SU;BYMONTH=10
TZNAME:CET
TZOFFSETFROM:+0200
TZOFFSETTO:+0100
END:STANDARD
BEGIN:DAYLIGHT
DTSTART:20000326T030000
RRULE:FREQ=YEARLY;BYDAY=-1SU;BYMONTH=3
TZNAME:CEST
TZOFFSETFROM:+0100
TZOFFSETTO:+0200
END:DAYLIGHT
END:VTIMEZONE
BEGIN:VEVENT
UID:pretix-petersberg-fe-sp-schule1-4910425@pretix.eu
DTSTART;TZID=Europe/Berlin:20260629T080000
DTEND;TZID=Europe/Berlin:20260703T163000
DESCRIPTION:Tickets: https://pretix.eu/petersberg/fe-sp-schule1/4910425/\nE
 inlass: 29.06.2026 08:00\nVeranstalter: Gemeinde Petersberg
DTSTAMP:20260420T193811Z
LOCATION:Propsteihaus\, Rathausplatz 2\, 36100 Petersberg
SUMMARY:Ferienspiele 2026  (6 - 12 Jahre)
END:VEVENT
END:VCALENDAR
