BEGIN:VCALENDAR
VERSION:2.0
PRODID:-//pretix//pretix.eu//
BEGIN:VTIMEZONE
TZID:Europe/Berlin
BEGIN:STANDARD
DTSTART:20001029T040000
RRULE:FREQ=YEARLY;BYDAY=-1SU;BYMONTH=10
TZNAME:CET
TZOFFSETFROM:+0200
TZOFFSETTO:+0100
END:STANDARD
BEGIN:DAYLIGHT
DTSTART:20000326T030000
RRULE:FREQ=YEARLY;BYDAY=-1SU;BYMONTH=3
TZNAME:CEST
TZOFFSETFROM:+0100
TZOFFSETTO:+0200
END:DAYLIGHT
END:VTIMEZONE
BEGIN:VEVENT
UID:pretix-pfd-lampertheim-test-0@pretix.eu
DTSTART;TZID=Europe/Berlin:20251027T213000
DTEND;TZID=Europe/Berlin:20251027T230000
DESCRIPTION:Tickets: https://pretix.eu/pfd-lampertheim/test/\nEinlass: 27.1
 0.2025 21:00\nVeranstalter: Partnerschaft für Demokratie Lampertheim
DTSTAMP:20260425T201252Z
LOCATION:Riedstr. 1\, 64625 Bensheim
SUMMARY:Testveranstaltung
END:VEVENT
END:VCALENDAR
