BEGIN:VCALENDAR
VERSION:2.0
PRODID:-//pretix//pretix.eu//
BEGIN:VTIMEZONE
TZID:Europe/Berlin
BEGIN:STANDARD
DTSTART:20001029T040000
RRULE:FREQ=YEARLY;BYDAY=-1SU;BYMONTH=10
TZNAME:CET
TZOFFSETFROM:+0200
TZOFFSETTO:+0100
END:STANDARD
BEGIN:DAYLIGHT
DTSTART:20000326T030000
RRULE:FREQ=YEARLY;BYDAY=-1SU;BYMONTH=3
TZNAME:CEST
TZOFFSETFROM:+0100
TZOFFSETTO:+0200
END:DAYLIGHT
END:VTIMEZONE
BEGIN:VEVENT
UID:pretix-plant-my-tree-forum2022-0@pretix.eu
DTSTART;TZID=Europe/Berlin:20220429T110000
DTEND;TZID=Europe/Berlin:20220429T150000
DESCRIPTION:Tickets: https://pretix.eu/plant-my-tree/forum2022/\nEinlass: 2
 9.04.2022 10:00\nVeranstalter: PLANT-MY-TREE®
DTSTAMP:20260420T111831Z
LOCATION:Waldprojekt Lüdenscheid
SUMMARY:Das PLANT-MY-TREE® Nachhaltigkeits-Forum im Wald 2022
END:VEVENT
END:VCALENDAR
