BEGIN:VCALENDAR
VERSION:2.0
PRODID:-//pretix//pretix.eu//
BEGIN:VTIMEZONE
TZID:Europe/Berlin
BEGIN:STANDARD
DTSTART:20001029T040000
RRULE:FREQ=YEARLY;BYDAY=-1SU;BYMONTH=10
TZNAME:CET
TZOFFSETFROM:+0200
TZOFFSETTO:+0100
END:STANDARD
BEGIN:DAYLIGHT
DTSTART:20000326T030000
RRULE:FREQ=YEARLY;BYDAY=-1SU;BYMONTH=3
TZNAME:CEST
TZOFFSETFROM:+0100
TZOFFSETTO:+0200
END:DAYLIGHT
END:VTIMEZONE
BEGIN:VEVENT
UID:pretix-play4agile-p4a26-0@pretix.eu
DTSTART;TZID=Europe/Berlin:20260910T140000
DTEND;TZID=Europe/Berlin:20260913T140000
DESCRIPTION:Tickets: https://pretix.eu/play4agile/p4a26/\nOrganizer: play4a
 gile
DTSTAMP:20260420T201222Z
LOCATION:SeminarZentrum Rückersbach\, Kolpingstraße 1\, 63867 Johannesberg
SUMMARY:play4agile UnConference 2026: From Friction to Flow
END:VEVENT
END:VCALENDAR
