BEGIN:VCALENDAR
VERSION:2.0
PRODID:-//pretix//pretix.eu//
BEGIN:VTIMEZONE
TZID:Europe/Berlin
BEGIN:STANDARD
DTSTART:20001029T040000
RRULE:FREQ=YEARLY;BYDAY=-1SU;BYMONTH=10
TZNAME:CET
TZOFFSETFROM:+0200
TZOFFSETTO:+0100
END:STANDARD
BEGIN:DAYLIGHT
DTSTART:20000326T030000
RRULE:FREQ=YEARLY;BYDAY=-1SU;BYMONTH=3
TZNAME:CEST
TZOFFSETFROM:+0100
TZOFFSETTO:+0200
END:DAYLIGHT
END:VTIMEZONE
BEGIN:VEVENT
UID:pretix-potpourri-krabbel10-0@pretix.eu
DTSTART;TZID=Europe/Berlin:20240903T000000
DTEND;TZID=Europe/Berlin:20851231T000000
DESCRIPTION:Tickets: https://pretix.eu/potpourri/krabbel10/\nVeranstalter: 
 Familienzentrum Potpourri
DTSTAMP:20260425T124545Z
LOCATION:Potpourri\, Eginhardstr. 9\, 10318 Berlin
SUMMARY:10er Karte Spiel- und Krabbelgruppe
END:VEVENT
BEGIN:VEVENT
UID:pretix-potpourri-strick-nachbuch-0@pretix.eu
DTSTART;VALUE=DATE:20240906
DTEND;VALUE=DATE:20510101
DESCRIPTION:Tickets: https://pretix.eu/potpourri/strick-nachbuch/\nVeransta
 lter: Familienzentrum Potpourri
DTSTAMP:20260425T124545Z
LOCATION:Potpourri\, Eginhardstr. 9\, 10318 Berlin
SUMMARY:Nachbuchung Strickkurse vor August 2024
END:VEVENT
BEGIN:VEVENT
UID:pretix-potpourri-strick10-0@pretix.eu
DTSTART;VALUE=DATE:20240906
DTEND;VALUE=DATE:20510101
DESCRIPTION:Tickets: https://pretix.eu/potpourri/strick10/\nVeranstalter: F
 amilienzentrum Potpourri
DTSTAMP:20260425T124545Z
LOCATION:Potpourri\, Eginhardstr. 9\, 10318 Berlin
SUMMARY:10er-Karte Stricken
END:VEVENT
BEGIN:VEVENT
UID:pretix-potpourri-9v3lz-0@pretix.eu
DTSTART;TZID=Europe/Berlin:20260505T100000
DTEND;TZID=Europe/Berlin:20260602T113000
DESCRIPTION:Tickets: https://pretix.eu/potpourri/9v3lz/\nVeranstalter: Fami
 lienzentrum Potpourri
DTSTAMP:20260425T124545Z
LOCATION:Potpourri\, Eginhardstr. 9\, 10318 Berlin
SUMMARY:Babymassage 05/26
END:VEVENT
BEGIN:VEVENT
UID:pretix-potpourri-ft26c-0@pretix.eu
DTSTART;TZID=Europe/Berlin:20260509T100000
DTEND;TZID=Europe/Berlin:20260509T110000
DESCRIPTION:Tickets: https://pretix.eu/potpourri/ft26c/\nVeranstalter: Fami
 lienzentrum Potpourri
DTSTAMP:20260425T124545Z
LOCATION:Traberweg\, Berlin Karlshorst
SUMMARY:Frühlingströdel 2026 Catering
END:VEVENT
BEGIN:VEVENT
UID:pretix-potpourri-ft2026-0@pretix.eu
DTSTART;TZID=Europe/Berlin:20260509T100000
DTEND;TZID=Europe/Berlin:20260509T110000
DESCRIPTION:Tickets: https://pretix.eu/potpourri/ft2026/\nVeranstalter: Fam
 ilienzentrum Potpourri
DTSTAMP:20260425T124545Z
LOCATION:Seepark Karlshorst
SUMMARY:Frühlingströdel 2026
END:VEVENT
BEGIN:VEVENT
UID:pretix-potpourri-fvbz8-0@pretix.eu
DTSTART;TZID=Europe/Berlin:20260530T100000
DTEND;TZID=Europe/Berlin:20260530T113000
DESCRIPTION:Tickets: https://pretix.eu/potpourri/fvbz8/\nVeranstalter: Fami
 lienzentrum Potpourri
DTSTAMP:20260425T124545Z
LOCATION:Potpourri\, Eginhardstr. 9\, 10318 Berlin
SUMMARY:Kinderkurs "Wenn die Wut brüllt"
END:VEVENT
BEGIN:VEVENT
UID:pretix-potpourri-dtyq9-0@pretix.eu
DTSTART;TZID=Europe/Berlin:20260605T100000
DTEND;TZID=Europe/Berlin:20260626T113000
DESCRIPTION:Tickets: https://pretix.eu/potpourri/dtyq9/\nVeranstalter: Fami
 lienzentrum Potpourri
DTSTAMP:20260425T124545Z
LOCATION:Potpourri\, Eginhardstr. 9\, 10318 Berlin
SUMMARY:(Mehr) Harmonie im Familienalltag – Mit GfK zu Verbindung und Ver
 ständnis
END:VEVENT
BEGIN:VEVENT
UID:pretix-potpourri-krabbelgruppe-4821656@pretix.eu
DTSTART;TZID=Europe/Berlin:20260326T093000
DTEND;TZID=Europe/Berlin:20260326T113000
DESCRIPTION:Tickets: https://pretix.eu/potpourri/krabbelgruppe/4821656/\nVe
 ranstalter: Familienzentrum Potpourri
DTSTAMP:20260425T124545Z
LOCATION:Potpourri\, Eginhardstr. 9\, 10318 Berlin
SUMMARY:offene Spiel- und Krabbelgruppe
END:VEVENT
BEGIN:VEVENT
UID:pretix-potpourri-krabbelgruppe-4821657@pretix.eu
DTSTART;TZID=Europe/Berlin:20260331T093000
DTEND;TZID=Europe/Berlin:20260331T113000
DESCRIPTION:Tickets: https://pretix.eu/potpourri/krabbelgruppe/4821657/\nVe
 ranstalter: Familienzentrum Potpourri
DTSTAMP:20260425T124545Z
LOCATION:Potpourri\, Eginhardstr. 9\, 10318 Berlin
SUMMARY:offene Spiel- und Krabbelgruppe
END:VEVENT
BEGIN:VEVENT
UID:pretix-potpourri-krabbelgruppe-4821658@pretix.eu
DTSTART;TZID=Europe/Berlin:20260402T093000
DTEND;TZID=Europe/Berlin:20260402T113000
DESCRIPTION:Tickets: https://pretix.eu/potpourri/krabbelgruppe/4821658/\nVe
 ranstalter: Familienzentrum Potpourri
DTSTAMP:20260425T124545Z
LOCATION:Potpourri\, Eginhardstr. 9\, 10318 Berlin
SUMMARY:offene Spiel- und Krabbelgruppe
END:VEVENT
BEGIN:VEVENT
UID:pretix-potpourri-jmxy7-4859106@pretix.eu
DTSTART;TZID=Europe/Berlin:20260403T093000
DTEND;TZID=Europe/Berlin:20260403T123000
DESCRIPTION:Tickets: https://pretix.eu/potpourri/jmxy7/4859106/\nVeranstalt
 er: Familienzentrum Potpourri
DTSTAMP:20260425T124545Z
LOCATION:Potpourri Eginhardstr.9 10318 Berlin
SUMMARY:Feriennähkurs für Kinder
END:VEVENT
BEGIN:VEVENT
UID:pretix-potpourri-jmxy7-4859107@pretix.eu
DTSTART;TZID=Europe/Berlin:20260403T140000
DTEND;TZID=Europe/Berlin:20260403T170000
DESCRIPTION:Tickets: https://pretix.eu/potpourri/jmxy7/4859107/\nVeranstalt
 er: Familienzentrum Potpourri
DTSTAMP:20260425T124545Z
LOCATION:Potpourri Eginhardstr.9 10318 Berlin
SUMMARY:Feriennähkurs für Kinder
END:VEVENT
BEGIN:VEVENT
UID:pretix-potpourri-krabbelgruppe-4893721@pretix.eu
DTSTART;TZID=Europe/Berlin:20260407T093000
DTEND;TZID=Europe/Berlin:20260407T113000
DESCRIPTION:Tickets: https://pretix.eu/potpourri/krabbelgruppe/4893721/\nVe
 ranstalter: Familienzentrum Potpourri
DTSTAMP:20260425T124545Z
LOCATION:Potpourri\, Eginhardstr. 9\, 10318 Berlin
SUMMARY:offene Spiel- und Krabbelgruppe
END:VEVENT
BEGIN:VEVENT
UID:pretix-potpourri-krabbelgruppe-4893725@pretix.eu
DTSTART;TZID=Europe/Berlin:20260409T093000
DTEND;TZID=Europe/Berlin:20260409T113000
DESCRIPTION:Tickets: https://pretix.eu/potpourri/krabbelgruppe/4893725/\nVe
 ranstalter: Familienzentrum Potpourri
DTSTAMP:20260425T124545Z
LOCATION:Potpourri\, Eginhardstr. 9\, 10318 Berlin
SUMMARY:offene Spiel- und Krabbelgruppe
END:VEVENT
BEGIN:VEVENT
UID:pretix-potpourri-krabbelgruppe-4893726@pretix.eu
DTSTART;TZID=Europe/Berlin:20260414T093000
DTEND;TZID=Europe/Berlin:20260414T113000
DESCRIPTION:Tickets: https://pretix.eu/potpourri/krabbelgruppe/4893726/\nVe
 ranstalter: Familienzentrum Potpourri
DTSTAMP:20260425T124545Z
LOCATION:Potpourri\, Eginhardstr. 9\, 10318 Berlin
SUMMARY:offene Spiel- und Krabbelgruppe
END:VEVENT
BEGIN:VEVENT
UID:pretix-potpourri-krabbelgruppe-4893727@pretix.eu
DTSTART;TZID=Europe/Berlin:20260416T093000
DTEND;TZID=Europe/Berlin:20260416T113000
DESCRIPTION:Tickets: https://pretix.eu/potpourri/krabbelgruppe/4893727/\nVe
 ranstalter: Familienzentrum Potpourri
DTSTAMP:20260425T124545Z
LOCATION:Potpourri\, Eginhardstr. 9\, 10318 Berlin
SUMMARY:offene Spiel- und Krabbelgruppe
END:VEVENT
BEGIN:VEVENT
UID:pretix-potpourri-krabbelgruppe-4893728@pretix.eu
DTSTART;TZID=Europe/Berlin:20260421T093000
DTEND;TZID=Europe/Berlin:20260421T113000
DESCRIPTION:Tickets: https://pretix.eu/potpourri/krabbelgruppe/4893728/\nVe
 ranstalter: Familienzentrum Potpourri
DTSTAMP:20260425T124545Z
LOCATION:Potpourri\, Eginhardstr. 9\, 10318 Berlin
SUMMARY:offene Spiel- und Krabbelgruppe
END:VEVENT
BEGIN:VEVENT
UID:pretix-potpourri-krabbelgruppe-4893729@pretix.eu
DTSTART;TZID=Europe/Berlin:20260423T093000
DTEND;TZID=Europe/Berlin:20260423T113000
DESCRIPTION:Tickets: https://pretix.eu/potpourri/krabbelgruppe/4893729/\nVe
 ranstalter: Familienzentrum Potpourri
DTSTAMP:20260425T124545Z
LOCATION:Potpourri\, Eginhardstr. 9\, 10318 Berlin
SUMMARY:offene Spiel- und Krabbelgruppe
END:VEVENT
BEGIN:VEVENT
UID:pretix-potpourri-krabbelgruppe-4893730@pretix.eu
DTSTART;TZID=Europe/Berlin:20260428T093000
DTEND;TZID=Europe/Berlin:20260428T113000
DESCRIPTION:Tickets: https://pretix.eu/potpourri/krabbelgruppe/4893730/\nVe
 ranstalter: Familienzentrum Potpourri
DTSTAMP:20260425T124545Z
LOCATION:Potpourri\, Eginhardstr. 9\, 10318 Berlin
SUMMARY:offene Spiel- und Krabbelgruppe
END:VEVENT
BEGIN:VEVENT
UID:pretix-potpourri-krabbelgruppe-4893731@pretix.eu
DTSTART;TZID=Europe/Berlin:20260430T093000
DTEND;TZID=Europe/Berlin:20260430T113000
DESCRIPTION:Tickets: https://pretix.eu/potpourri/krabbelgruppe/4893731/\nVe
 ranstalter: Familienzentrum Potpourri
DTSTAMP:20260425T124545Z
LOCATION:Potpourri\, Eginhardstr. 9\, 10318 Berlin
SUMMARY:offene Spiel- und Krabbelgruppe
END:VEVENT
BEGIN:VEVENT
UID:pretix-potpourri-krabbelgruppe-4893732@pretix.eu
DTSTART;TZID=Europe/Berlin:20260505T093000
DTEND;TZID=Europe/Berlin:20260505T113000
DESCRIPTION:Tickets: https://pretix.eu/potpourri/krabbelgruppe/4893732/\nVe
 ranstalter: Familienzentrum Potpourri
DTSTAMP:20260425T124545Z
LOCATION:Potpourri\, Eginhardstr. 9\, 10318 Berlin
SUMMARY:offene Spiel- und Krabbelgruppe
END:VEVENT
BEGIN:VEVENT
UID:pretix-potpourri-krabbelgruppe-4893733@pretix.eu
DTSTART;TZID=Europe/Berlin:20260507T093000
DTEND;TZID=Europe/Berlin:20260507T113000
DESCRIPTION:Tickets: https://pretix.eu/potpourri/krabbelgruppe/4893733/\nVe
 ranstalter: Familienzentrum Potpourri
DTSTAMP:20260425T124545Z
LOCATION:Potpourri\, Eginhardstr. 9\, 10318 Berlin
SUMMARY:offene Spiel- und Krabbelgruppe
END:VEVENT
BEGIN:VEVENT
UID:pretix-potpourri-krabbelgruppe-4893734@pretix.eu
DTSTART;TZID=Europe/Berlin:20260512T093000
DTEND;TZID=Europe/Berlin:20260512T113000
DESCRIPTION:Tickets: https://pretix.eu/potpourri/krabbelgruppe/4893734/\nVe
 ranstalter: Familienzentrum Potpourri
DTSTAMP:20260425T124545Z
LOCATION:Potpourri\, Eginhardstr. 9\, 10318 Berlin
SUMMARY:offene Spiel- und Krabbelgruppe
END:VEVENT
END:VCALENDAR
