BEGIN:VCALENDAR
VERSION:2.0
PRODID:-//pretix//pretix.eu//
BEGIN:VTIMEZONE
TZID:Europe/Berlin
BEGIN:STANDARD
DTSTART:20001029T040000
RRULE:FREQ=YEARLY;BYDAY=-1SU;BYMONTH=10
TZNAME:CET
TZOFFSETFROM:+0200
TZOFFSETTO:+0100
END:STANDARD
BEGIN:DAYLIGHT
DTSTART:20000326T030000
RRULE:FREQ=YEARLY;BYDAY=-1SU;BYMONTH=3
TZNAME:CEST
TZOFFSETFROM:+0100
TZOFFSETTO:+0200
END:DAYLIGHT
END:VTIMEZONE
BEGIN:VEVENT
UID:pretix-preussischer-kulturbesitz-KRR-0@pretix.eu
DTSTART;TZID=Europe/Berlin:20241204T180000
DTEND;TZID=Europe/Berlin:20241204T190000
DESCRIPTION:Tickets: https://pretix.eu/preussischer-kulturbesitz/KRR/\nEinl
 ass: 04.12.2024 17:30\nVeranstalter: Stiftung Preußischer Kulturbesitz
DTSTAMP:20260422T085603Z
LOCATION:Auditorium in der James-Simon-Galerie\, Bodestraße\, 10178 Berlin
SUMMARY:Kunst\, Raub und Rückgabe - Vergessene Lebensgeschichten. Bilanz u
 nd Ausblick
END:VEVENT
END:VCALENDAR
