BEGIN:VCALENDAR
VERSION:2.0
PRODID:-//pretix//pretix.eu//
BEGIN:VTIMEZONE
TZID:Europe/Berlin
BEGIN:STANDARD
DTSTART:20001029T040000
RRULE:FREQ=YEARLY;BYDAY=-1SU;BYMONTH=10
TZNAME:CET
TZOFFSETFROM:+0200
TZOFFSETTO:+0100
END:STANDARD
BEGIN:DAYLIGHT
DTSTART:20000326T030000
RRULE:FREQ=YEARLY;BYDAY=-1SU;BYMONTH=3
TZNAME:CEST
TZOFFSETFROM:+0100
TZOFFSETTO:+0200
END:DAYLIGHT
END:VTIMEZONE
BEGIN:VEVENT
UID:pretix-preussischer-kulturbesitz-Symposium-0@pretix.eu
DTSTART;TZID=Europe/Berlin:20260423T100000
DTEND;TZID=Europe/Berlin:20260424T153000
DESCRIPTION:Tickets: https://pretix.eu/preussischer-kulturbesitz/Symposium/
 \nEinlass: 23.04.2026 09:30\nVeranstalter: Stiftung Preußischer Kulturbes
 itz
DTSTAMP:20260419T222444Z
LOCATION:Haus Bastian – Zentrum für Kulturelle Bildung der Staatlichen M
 useen zu Berlin\, Am Kupfergraben 10\, 10117 Berlin
SUMMARY:Kulturelle und politische Bildung im Museum – Perspektiven auf de
 n Beutelsbacher Konsens
END:VEVENT
END:VCALENDAR
