BEGIN:VCALENDAR
VERSION:2.0
PRODID:-//pretix//pretix.eu//
BEGIN:VTIMEZONE
TZID:Europe/Berlin
BEGIN:STANDARD
DTSTART:20001029T040000
RRULE:FREQ=YEARLY;BYDAY=-1SU;BYMONTH=10
TZNAME:CET
TZOFFSETFROM:+0200
TZOFFSETTO:+0100
END:STANDARD
BEGIN:DAYLIGHT
DTSTART:20000326T030000
RRULE:FREQ=YEARLY;BYDAY=-1SU;BYMONTH=3
TZNAME:CEST
TZOFFSETFROM:+0100
TZOFFSETTO:+0200
END:DAYLIGHT
END:VTIMEZONE
BEGIN:VEVENT
UID:pretix-preussischer-kulturbesitz-Weltkulturerbe-MI-0@pretix.eu
DTSTART;TZID=Europe/Berlin:20241203T190000
DTEND;TZID=Europe/Berlin:20241203T200000
DESCRIPTION:Tickets: https://pretix.eu/preussischer-kulturbesitz/Weltkultur
 erbe-MI/\nEinlass: 03.12.2024 18:30\nVeranstalter: Stiftung Preußischer K
 ulturbesitz
DTSTAMP:20260421T004612Z
LOCATION:Bodestraße 1-3\, 10117 Berlin\, James-Simon-Galerie\, Auditorium
SUMMARY:Instandsetzen\, schützen\, weiterentwickeln: 25 Jahre Welterbe Mus
 eumsinsel Berlin
END:VEVENT
END:VCALENDAR
