BEGIN:VCALENDAR
VERSION:2.0
PRODID:-//pretix//pretix.eu//
BEGIN:VTIMEZONE
TZID:Europe/Berlin
BEGIN:STANDARD
DTSTART:20001029T040000
RRULE:FREQ=YEARLY;BYDAY=-1SU;BYMONTH=10
TZNAME:CET
TZOFFSETFROM:+0200
TZOFFSETTO:+0100
END:STANDARD
BEGIN:DAYLIGHT
DTSTART:20000326T030000
RRULE:FREQ=YEARLY;BYDAY=-1SU;BYMONTH=3
TZNAME:CEST
TZOFFSETFROM:+0100
TZOFFSETTO:+0200
END:DAYLIGHT
END:VTIMEZONE
BEGIN:VEVENT
UID:pretix-prismtalkseries-prism-talk-6-0@pretix.eu
DTSTART;TZID=Europe/Berlin:20251001T190000
DTEND;TZID=Europe/Berlin:20251001T203000
DESCRIPTION:Tickets: https://pretix.eu/prismtalkseries/prism-talk-6/\nOrgan
 izer: PRISM Talk Series
DTSTAMP:20260424T224002Z
LOCATION:Online (Zoom)
SUMMARY:PRISM Talk Series | 06 | Alenka Zupančič: "The Time of Monsters: 
 Crisis\, Subjectivity\, and Struggle Today"
END:VEVENT
END:VCALENDAR
