BEGIN:VCALENDAR
VERSION:2.0
PRODID:-//pretix//pretix.eu//
BEGIN:VTIMEZONE
TZID:Europe/Berlin
BEGIN:STANDARD
DTSTART:20001029T040000
RRULE:FREQ=YEARLY;BYDAY=-1SU;BYMONTH=10
TZNAME:CET
TZOFFSETFROM:+0200
TZOFFSETTO:+0100
END:STANDARD
BEGIN:DAYLIGHT
DTSTART:20000326T030000
RRULE:FREQ=YEARLY;BYDAY=-1SU;BYMONTH=3
TZNAME:CEST
TZOFFSETFROM:+0100
TZOFFSETTO:+0200
END:DAYLIGHT
END:VTIMEZONE
BEGIN:VEVENT
UID:pretix-prototypefund-demoday01-0@pretix.eu
DTSTART;TZID=Europe/Berlin:20251128T110000
DTEND;TZID=Europe/Berlin:20251128T180000
DESCRIPTION:Tickets: https://pretix.eu/prototypefund/demoday01/\nEinlass: 2
 8.11.2025 10:30\nVeranstalter: Prototype Fund
DTSTAMP:20260422T003607Z
LOCATION:bUm Berlin - Raum für solidarisches Miteinander\, Paul-Lincke-Ufe
 r 21\, 10999 Berlin
SUMMARY:Demo Day Jahrgang 01
END:VEVENT
END:VCALENDAR
