BEGIN:VCALENDAR
VERSION:2.0
PRODID:-//pretix//pretix.eu//
BEGIN:VTIMEZONE
TZID:Europe/Berlin
BEGIN:STANDARD
DTSTART:20001029T040000
RRULE:FREQ=YEARLY;BYDAY=-1SU;BYMONTH=10
TZNAME:CET
TZOFFSETFROM:+0200
TZOFFSETTO:+0100
END:STANDARD
BEGIN:DAYLIGHT
DTSTART:20000326T030000
RRULE:FREQ=YEARLY;BYDAY=-1SU;BYMONTH=3
TZNAME:CEST
TZOFFSETFROM:+0100
TZOFFSETTO:+0200
END:DAYLIGHT
END:VTIMEZONE
BEGIN:VEVENT
UID:pretix-publix-zuretten-4925843@pretix.eu
DTSTART;TZID=Europe/Berlin:20260625T183000
DTEND;TZID=Europe/Berlin:20260625T200000
DESCRIPTION:Tickets: https://pretix.eu/publix/zuretten/4925843/\nEinlass: 2
 5.06.2026 18:00\nVeranstalter: Publix gGmbH
DTSTAMP:20260425T102118Z
LOCATION:Publix\, Hermannstraße 90\, 12051 Berlin
SUMMARY:Publix Thursday | Berichten über Rechtsaußen: Wie covert man die 
 AfD\, im Osten und ganz Deutschland?
END:VEVENT
END:VCALENDAR
