BEGIN:VCALENDAR
VERSION:2.0
PRODID:-//pretix//pretix.eu//
BEGIN:VEVENT
UID:pretix-pycascades-portland-2025-0@pretix.eu
DTSTART;VALUE=DATE:20250208
DTEND;VALUE=DATE:20250210
DESCRIPTION:Tickets: https://pretix.eu/pycascades/portland-2025/\nAdmission
 : 2025-02-08 07:00\nOrganizer: PyCascades
DTSTAMP:20260421T164240Z
LOCATION:Revolution Hall\, 1300 SE Stark Street\, Portland\, OR 97214
SUMMARY:PyCascades 2025 - Portland
END:VEVENT
END:VCALENDAR
