BEGIN:VCALENDAR
VERSION:2.0
PRODID:-//pretix//pretix.eu//
BEGIN:VEVENT
UID:pretix-pycascades-remote-2022-0@pretix.eu
DTSTART;VALUE=DATE:20220205
DTEND;VALUE=DATE:20220207
DESCRIPTION:Tickets: https://pretix.eu/pycascades/remote-2022/\nAdmission: 
 2022-02-05 00:00\nOrganizer: PyCascades
DTSTAMP:20260424T154809Z
SUMMARY:PyCascades 2022 - Remote
END:VEVENT
END:VCALENDAR
