BEGIN:VCALENDAR
VERSION:2.0
PRODID:-//pretix//pretix.eu//
BEGIN:VTIMEZONE
TZID:Asia/Tokyo
BEGIN:STANDARD
DTSTART:20000101T000000
RRULE:FREQ=YEARLY;BYMONTH=1
TZNAME:JST
TZOFFSETFROM:+0900
TZOFFSETTO:+0900
END:STANDARD
END:VTIMEZONE
BEGIN:VEVENT
UID:pretix-pyconjp-2023-apac-0@pretix.eu
DTSTART;TZID=Asia/Tokyo:20231026T100000
DTEND;TZID=Asia/Tokyo:20231029T200000
DESCRIPTION:Tickets: https://pretix.eu/pyconjp/2023-apac/\nAdmission: 2023-
 10-26 10:00\nOrganizer: PyCon JP Association
DTSTAMP:20260421T235840Z
LOCATION:3-5-7\, Ariake\, Koto-ku\, Tokyo\, Japan
SUMMARY:PyCon APAC 2023
END:VEVENT
END:VCALENDAR
