BEGIN:VCALENDAR
VERSION:2.0
PRODID:-//pretix//pretix.eu//
BEGIN:VTIMEZONE
TZID:Europe/Paris
BEGIN:STANDARD
DTSTART:20001029T040000
RRULE:FREQ=YEARLY;BYDAY=-1SU;BYMONTH=10
TZNAME:CET
TZOFFSETFROM:+0200
TZOFFSETTO:+0100
END:STANDARD
BEGIN:DAYLIGHT
DTSTART:20000326T030000
RRULE:FREQ=YEARLY;BYDAY=-1SU;BYMONTH=3
TZNAME:CEST
TZOFFSETFROM:+0100
TZOFFSETTO:+0200
END:DAYLIGHT
END:VTIMEZONE
BEGIN:VEVENT
UID:pretix-r-contributors-r-dev-day-rr2026-0@pretix.eu
DTSTART;TZID=Europe/Paris:20260619T090000
DTEND;TZID=Europe/Paris:20260619T170000
DESCRIPTION:Tickets : https://pretix.eu/r-contributors/r-dev-day-rr2026/\n
 Admission : 19/06/2026 00:00\nOrganisateur : R Contributors
DTSTAMP:20260424T162615Z
LOCATION:Amphi Pasteur\, Nantes Université\, 2 Chemin de la Houssinière\,
  44322 Nantes\, France
SUMMARY:R Dev Day @ Rencontres R 2026\, Nantes / Virtuel
END:VEVENT
END:VCALENDAR
