BEGIN:VCALENDAR
VERSION:2.0
PRODID:-//pretix//pretix.eu//
BEGIN:VTIMEZONE
TZID:Europe/Berlin
BEGIN:STANDARD
DTSTART:20001029T040000
RRULE:FREQ=YEARLY;BYDAY=-1SU;BYMONTH=10
TZNAME:CET
TZOFFSETFROM:+0200
TZOFFSETTO:+0100
END:STANDARD
BEGIN:DAYLIGHT
DTSTART:20000326T030000
RRULE:FREQ=YEARLY;BYDAY=-1SU;BYMONTH=3
TZNAME:CEST
TZOFFSETFROM:+0100
TZOFFSETTO:+0200
END:DAYLIGHT
END:VTIMEZONE
BEGIN:VEVENT
UID:pretix-redhorndistrict-sanglaser-0@pretix.eu
DTSTART;TZID=Europe/Berlin:20240615T200000
DTEND;TZID=Europe/Berlin:20240615T210000
DESCRIPTION:Tickets: https://pretix.eu/redhorndistrict/sanglaser/\nEinlass:
  15.06.2024 19:00\nVeranstalter: Red Horn District e.V.
DTSTAMP:20260421T122457Z
LOCATION:Red Horn District\, Detmolder Str. 46\, 32805 Horn-Bad Meinberg
SUMMARY:San Glaser
END:VEVENT
END:VCALENDAR
