BEGIN:VCALENDAR
VERSION:2.0
PRODID:-//pretix//pretix.eu//
BEGIN:VTIMEZONE
TZID:GMT
BEGIN:STANDARD
DTSTART:20000101T000000
RRULE:FREQ=YEARLY;BYMONTH=1
TZNAME:GMT
TZOFFSETFROM:+0000
TZOFFSETTO:+0000
END:STANDARD
END:VTIMEZONE
BEGIN:VEVENT
UID:pretix-rejekts-rejektseu25-0@pretix.eu
DTSTART;TZID=GMT:20250330T083000
DTEND;TZID=GMT:20250331T183000
DESCRIPTION:Tickets: https://pretix.eu/rejekts/rejektseu25/\nOrganizer: Clo
 ud Native Rejekts
DTSTAMP:20260425T202713Z
LOCATION:116 Pall Mall\, London\, England\, United Kingdom
SUMMARY:Cloud Native Rejekts Europe 2025
END:VEVENT
END:VCALENDAR
