BEGIN:VCALENDAR
VERSION:2.0
PRODID:-//pretix//pretix.eu//
BEGIN:VTIMEZONE
TZID:Europe/Amsterdam
BEGIN:STANDARD
DTSTART:20001029T040000
RRULE:FREQ=YEARLY;BYDAY=-1SU;BYMONTH=10
TZNAME:CET
TZOFFSETFROM:+0200
TZOFFSETTO:+0100
END:STANDARD
BEGIN:DAYLIGHT
DTSTART:20000326T030000
RRULE:FREQ=YEARLY;BYDAY=-1SU;BYMONTH=3
TZNAME:CEST
TZOFFSETFROM:+0100
TZOFFSETTO:+0200
END:DAYLIGHT
END:VTIMEZONE
BEGIN:VEVENT
UID:pretix-rejekts-rejektseu26-0@pretix.eu
DTSTART;TZID=Europe/Amsterdam:20260321T093000
DTEND;TZID=Europe/Amsterdam:20260321T170000
DESCRIPTION:Tickets: https://pretix.eu/rejekts/rejektseu26/\nAdmission: 202
 6-03-21 08:30\nOrganizer: Cloud Native Rejekts
DTSTAMP:20260420T134931Z
LOCATION:Miro Office Amsterdam\, "Miro100"\, Fred. Roeskestraat 100\, 1076 
 ED Amsterdam
SUMMARY:Cloud Native Rejekts Europe 2026
END:VEVENT
END:VCALENDAR
