BEGIN:VCALENDAR
VERSION:2.0
PRODID:-//pretix//pretix.eu//
BEGIN:VTIMEZONE
TZID:Europe/Berlin
BEGIN:STANDARD
DTSTART:20001029T040000
RRULE:FREQ=YEARLY;BYDAY=-1SU;BYMONTH=10
TZNAME:CET
TZOFFSETFROM:+0200
TZOFFSETTO:+0100
END:STANDARD
BEGIN:DAYLIGHT
DTSTART:20000326T030000
RRULE:FREQ=YEARLY;BYDAY=-1SU;BYMONTH=3
TZNAME:CEST
TZOFFSETFROM:+0100
TZOFFSETTO:+0200
END:DAYLIGHT
END:VTIMEZONE
BEGIN:VEVENT
UID:pretix-relAI-symposium2025-0@pretix.eu
DTSTART;TZID=Europe/Berlin:20251124T090000
DTEND;TZID=Europe/Berlin:20251124T140000
DESCRIPTION:Tickets: https://pretix.eu/relAI/symposium2025/\nAdmission: 202
 5-11-24 08:15\nOrganizer: Konrad Zuse School of Excellence in Reliable AI
DTSTAMP:20260420T003426Z
LOCATION:Europasaal\, Haus der Bayerischen Wirtschaft\, Max-Joseph-Straße 
 5\, 80333 München\, Germany
SUMMARY:relAI Symposium 2025
END:VEVENT
END:VCALENDAR
