BEGIN:VCALENDAR
VERSION:2.0
PRODID:-//pretix//pretix.eu//
BEGIN:VTIMEZONE
TZID:Europe/Berlin
BEGIN:STANDARD
DTSTART:20001029T040000
RRULE:FREQ=YEARLY;BYDAY=-1SU;BYMONTH=10
TZNAME:CET
TZOFFSETFROM:+0200
TZOFFSETTO:+0100
END:STANDARD
BEGIN:DAYLIGHT
DTSTART:20000326T030000
RRULE:FREQ=YEARLY;BYDAY=-1SU;BYMONTH=3
TZNAME:CEST
TZOFFSETFROM:+0100
TZOFFSETTO:+0200
END:DAYLIGHT
END:VTIMEZONE
BEGIN:VEVENT
UID:pretix-reporter-slam-jahresfinale-0@pretix.eu
DTSTART;TZID=Europe/Berlin:20260117T200000
DTEND;TZID=Europe/Berlin:20260117T210000
DESCRIPTION:Tickets: https://pretix.eu/reporter-slam/jahresfinale/\nEinlass
 : 17.01.2026 19:00\nVeranstalter: Headliner gUG-RS
DTSTAMP:20260422T033539Z
LOCATION:PUNCH L!NE Berlin\, Marlene-Dietrich-Platz 1\, 10785 Berlin
SUMMARY:Reporter Slam Jahresfinale
END:VEVENT
END:VCALENDAR
