BEGIN:VCALENDAR
VERSION:2.0
PRODID:-//pretix//pretix.eu//
BEGIN:VTIMEZONE
TZID:Europe/Berlin
BEGIN:STANDARD
DTSTART:20001029T040000
RRULE:FREQ=YEARLY;BYDAY=-1SU;BYMONTH=10
TZNAME:CET
TZOFFSETFROM:+0200
TZOFFSETTO:+0100
END:STANDARD
BEGIN:DAYLIGHT
DTSTART:20000326T030000
RRULE:FREQ=YEARLY;BYDAY=-1SU;BYMONTH=3
TZNAME:CEST
TZOFFSETFROM:+0100
TZOFFSETTO:+0200
END:DAYLIGHT
END:VTIMEZONE
BEGIN:VEVENT
UID:pretix-rfv-ma-sa-festzeltgaudi-0@pretix.eu
DTSTART;TZID=Europe/Berlin:20260502T170000
DTEND;TZID=Europe/Berlin:20260502T230000
DESCRIPTION:Tickets: https://pretix.eu/rfv-ma-sa/festzeltgaudi/\nVeranstalt
 er: Reit- und Fahrverein Mannheim-Sandhofen e.V.
DTSTAMP:20260424T142216Z
LOCATION:Riespitze 8 - 68307 Mannheim\, Navi & Taxi-Adresse: Leinpfad 130
SUMMARY:Festzeltgaudi RFV Mannheim-Sandhofen
END:VEVENT
END:VCALENDAR
