BEGIN:VCALENDAR
VERSION:2.0
PRODID:-//pretix//pretix.eu//
BEGIN:VTIMEZONE
TZID:Europe/Berlin
BEGIN:STANDARD
DTSTART:20001029T040000
RRULE:FREQ=YEARLY;BYDAY=-1SU;BYMONTH=10
TZNAME:CET
TZOFFSETFROM:+0200
TZOFFSETTO:+0100
END:STANDARD
BEGIN:DAYLIGHT
DTSTART:20000326T030000
RRULE:FREQ=YEARLY;BYDAY=-1SU;BYMONTH=3
TZNAME:CEST
TZOFFSETFROM:+0100
TZOFFSETTO:+0200
END:DAYLIGHT
END:VTIMEZONE
BEGIN:VEVENT
UID:pretix-rigpa-NGD-26-0@pretix.eu
DTSTART;TZID=Europe/Berlin:20260704T100000
DTEND;TZID=Europe/Berlin:20260705T160000
DESCRIPTION:Tickets: https://pretix.eu/rigpa/NGD-26/\nVeranstalter: Rigpa e
 .V.
DTSTAMP:20260424T120827Z
LOCATION:Rigpa-Zentrum\, Kronprinzenstr. 82-84\, 40217 Düsseldorf
SUMMARY:Bodhichitta im Rahmen der Ngöndro-Praxis mit Karin Behrendt  & d
 em Ngöndro-Netzwerk-Team
END:VEVENT
END:VCALENDAR
