BEGIN:VCALENDAR
VERSION:2.0
PRODID:-//pretix//pretix.eu//
BEGIN:VTIMEZONE
TZID:Europe/Berlin
BEGIN:STANDARD
DTSTART:20001029T040000
RRULE:FREQ=YEARLY;BYDAY=-1SU;BYMONTH=10
TZNAME:CET
TZOFFSETFROM:+0200
TZOFFSETTO:+0100
END:STANDARD
BEGIN:DAYLIGHT
DTSTART:20000326T030000
RRULE:FREQ=YEARLY;BYDAY=-1SU;BYMONTH=3
TZNAME:CEST
TZOFFSETFROM:+0100
TZOFFSETTO:+0200
END:DAYLIGHT
END:VTIMEZONE
BEGIN:VEVENT
UID:pretix-ritcsschoolofarts-LTRblok3-0@pretix.eu
DTSTART;TZID=Europe/Berlin:20230622T213000
DTEND;TZID=Europe/Berlin:20230622T223000
DESCRIPTION:Tickets: https://pretix.eu/ritcsschoolofarts/LTRblok3/\nOrganis
 ator: RITCS School of Arts
DTSTAMP:20260419T224644Z
LOCATION:CINEMA RITCS
SUMMARY:RITCS Shorts - Blok 3 - 21:30 > 23:00 - LICHTING RITCS
END:VEVENT
END:VCALENDAR
