BEGIN:VCALENDAR
VERSION:2.0
PRODID:-//pretix//pretix.eu//
BEGIN:VTIMEZONE
TZID:Europe/Berlin
BEGIN:STANDARD
DTSTART:20001029T040000
RRULE:FREQ=YEARLY;BYDAY=-1SU;BYMONTH=10
TZNAME:CET
TZOFFSETFROM:+0200
TZOFFSETTO:+0100
END:STANDARD
BEGIN:DAYLIGHT
DTSTART:20000326T030000
RRULE:FREQ=YEARLY;BYDAY=-1SU;BYMONTH=3
TZNAME:CEST
TZOFFSETFROM:+0100
TZOFFSETTO:+0200
END:DAYLIGHT
END:VTIMEZONE
BEGIN:VEVENT
UID:pretix-ritcsschoolofarts-cafecrapule-0@pretix.eu
DTSTART;TZID=Europe/Berlin:20230509T180000
DTEND;TZID=Europe/Berlin:20230509T220000
DESCRIPTION:Tickets: https://pretix.eu/ritcsschoolofarts/cafecrapule/\nOrga
 nizer: RITCS School of Arts
DTSTAMP:20260420T052226Z
LOCATION:Vanderlindenstraat 44\, 1030 Schaarbeek
SUMMARY:Café Crapule Transfocollect- an evening with food\, performances\,
  lectures I Een avond met eten\, performances\, lezingen enzovoort
END:VEVENT
END:VCALENDAR
