BEGIN:VCALENDAR
VERSION:2.0
PRODID:-//pretix//pretix.eu//
BEGIN:VTIMEZONE
TZID:Europe/Berlin
BEGIN:STANDARD
DTSTART:20001029T040000
RRULE:FREQ=YEARLY;BYDAY=-1SU;BYMONTH=10
TZNAME:CET
TZOFFSETFROM:+0200
TZOFFSETTO:+0100
END:STANDARD
BEGIN:DAYLIGHT
DTSTART:20000326T030000
RRULE:FREQ=YEARLY;BYDAY=-1SU;BYMONTH=3
TZNAME:CEST
TZOFFSETFROM:+0100
TZOFFSETTO:+0200
END:DAYLIGHT
END:VTIMEZONE
BEGIN:VEVENT
UID:pretix-ritcsschoolofarts-frrdp-0@pretix.eu
DTSTART;TZID=Europe/Berlin:20250312T100000
DTEND;TZID=Europe/Berlin:20250312T180000
DESCRIPTION:Tickets: https://pretix.eu/ritcsschoolofarts/frrdp/\nOrganisato
 r: RITCS School of Arts
DTSTAMP:20260419T143502Z
LOCATION:Cinema RITCS\, Antoine Dansaertstraat 70\, 1000 Brussel
SUMMARY:Zijn er grenzen aan de verbeelding? - Marc Didden\, Ellen Vermeulen
 \, Leen Verheyen\, Inès Eshun & Christophe Vekeman
END:VEVENT
END:VCALENDAR
